Package: scmeth Version: 1.18.0 Command: chmod a+r scmeth -R && F:\biocbuild\bbs-3.16-bioc\R\bin\R.exe CMD build --keep-empty-dirs --no-resave-data scmeth StartedAt: 2023-04-10 21:26:24 -0400 (Mon, 10 Apr 2023) EndedAt: 2023-04-10 21:28:05 -0400 (Mon, 10 Apr 2023) EllapsedTime: 100.9 seconds RetCode: 0 Status: OK PackageFile: scmeth_1.18.0.tar.gz PackageFileSize: 740.9 KiB