Package: scatterHatch Version: 1.4.0 Command: /home/biocbuild/bbs-3.16-bioc/R/bin/R CMD check --install=check:scatterHatch.install-out.txt --library=/home/biocbuild/bbs-3.16-bioc/R/site-library --timings scatterHatch_1.4.0.tar.gz StartedAt: 2023-04-10 23:43:33 -0400 (Mon, 10 Apr 2023) EndedAt: 2023-04-10 23:45:33 -0400 (Mon, 10 Apr 2023) EllapsedTime: 119.7 seconds RetCode: 0 Status: OK CheckDir: scatterHatch.Rcheck Warnings: 0