Package: scatterHatch Version: 1.3.0 Command: /Library/Frameworks/R.framework/Resources/bin/R CMD INSTALL scatterHatch StartedAt: 2022-07-10 15:50:52 -0400 (Sun, 10 Jul 2022) EndedAt: 2022-07-10 15:51:05 -0400 (Sun, 10 Jul 2022) EllapsedTime: 13.4 seconds RetCode: 0 Status: OK