Package: scatterHatch Version: 1.3.0 Command: /Library/Frameworks/R.framework/Resources/bin/R CMD build --keep-empty-dirs --no-resave-data scatterHatch StartedAt: 2022-07-07 04:24:51 -0400 (Thu, 07 Jul 2022) EndedAt: 2022-07-07 04:25:29 -0400 (Thu, 07 Jul 2022) EllapsedTime: 37.6 seconds RetCode: 0 Status: OK PackageFile: scatterHatch_1.3.0.tar.gz PackageFileSize: 3.036 MiB