Package: scatterHatch Version: 1.3.0 Command: rm -rf scatterHatch.buildbin-libdir && mkdir scatterHatch.buildbin-libdir && /Users/biocbuild/BBS/utils/build-universal.sh scatterHatch_1.3.0.tar.gz /Library/Frameworks/R.framework/Resources/bin/R scatterHatch.buildbin-libdir StartedAt: 2022-07-07 09:04:35 -0400 (Thu, 07 Jul 2022) EndedAt: 2022-07-07 09:04:51 -0400 (Thu, 07 Jul 2022) EllapsedTime: 16.4 seconds RetCode: 0 Status: OK PackageFile: scatterHatch_1.3.0.tgz PackageFileSize: 3.073 MiB