Package: scanMiRApp Version: 1.4.0 Command: chmod a+r scanMiRApp -R && F:\biocbuild\bbs-3.16-bioc\R\bin\R.exe CMD build --keep-empty-dirs --no-resave-data scanMiRApp StartedAt: 2023-04-10 21:19:24 -0400 (Mon, 10 Apr 2023) EndedAt: 2023-04-10 21:20:43 -0400 (Mon, 10 Apr 2023) EllapsedTime: 79.5 seconds RetCode: 0 Status: OK PackageFile: scanMiRApp_1.4.0.tar.gz PackageFileSize: 877.9 KiB