Package: scanMiRApp Version: 1.4.0 Command: rm -rf scanMiRApp.buildbin-libdir && mkdir scanMiRApp.buildbin-libdir && F:\biocbuild\bbs-3.16-bioc\R\bin\R.exe CMD INSTALL --build --library=scanMiRApp.buildbin-libdir scanMiRApp_1.4.0.tar.gz StartedAt: 2023-04-11 08:43:46 -0400 (Tue, 11 Apr 2023) EndedAt: 2023-04-11 08:44:36 -0400 (Tue, 11 Apr 2023) EllapsedTime: 50.4 seconds RetCode: 0 Status: OK PackageFile: scanMiRApp_1.4.0.zip PackageFileSize: 1.302 MiB