Package: scanMiRApp Version: 1.4.0 Command: /home/biocbuild/bbs-3.16-bioc/R/bin/R CMD check --install=check:scanMiRApp.install-out.txt --library=/home/biocbuild/bbs-3.16-bioc/R/site-library --timings scanMiRApp_1.4.0.tar.gz StartedAt: 2023-04-10 23:42:03 -0400 (Mon, 10 Apr 2023) EndedAt: 2023-04-10 23:47:57 -0400 (Mon, 10 Apr 2023) EllapsedTime: 353.8 seconds RetCode: 0 Status: WARNINGS CheckDir: scanMiRApp.Rcheck Warnings: 1