Package: scTreeViz Version: 1.4.0 Command: rm -rf scTreeViz.buildbin-libdir && mkdir scTreeViz.buildbin-libdir && F:\biocbuild\bbs-3.16-bioc\R\bin\R.exe CMD INSTALL --build --library=scTreeViz.buildbin-libdir scTreeViz_1.4.0.tar.gz StartedAt: 2023-04-11 08:45:49 -0400 (Tue, 11 Apr 2023) EndedAt: 2023-04-11 08:47:24 -0400 (Tue, 11 Apr 2023) EllapsedTime: 94.7 seconds RetCode: 0 Status: OK PackageFile: scTreeViz_1.4.0.zip PackageFileSize: 2.516 MiB