Package: scClassify Version: 1.10.0 Command: chmod a+r scClassify -R && F:\biocbuild\bbs-3.16-bioc\R\bin\R.exe CMD build --keep-empty-dirs --no-resave-data scClassify StartedAt: 2023-04-10 21:21:07 -0400 (Mon, 10 Apr 2023) EndedAt: 2023-04-10 21:23:21 -0400 (Mon, 10 Apr 2023) EllapsedTime: 133.2 seconds RetCode: 0 Status: OK PackageFile: scClassify_1.10.0.tar.gz PackageFileSize: 2.788 MiB