Package: scBFA Version: 1.12.0 Command: /home/biocbuild/bbs-3.16-bioc/R/bin/R CMD build --keep-empty-dirs --no-resave-data scBFA StartedAt: 2023-04-10 18:05:38 -0400 (Mon, 10 Apr 2023) EndedAt: 2023-04-10 18:06:52 -0400 (Mon, 10 Apr 2023) EllapsedTime: 74.6 seconds RetCode: 0 Status: OK PackageFile: scBFA_1.12.0.tar.gz PackageFileSize: 1.138 MiB