git_url: https://git.bioconductor.org/packages/rsbml git_branch: RELEASE_3_16 git_last_commit: a084b19 git_last_commit_date: 2022-11-01 11:03:36 -0400 (Tue, 01 Nov 2022) Package: rsbml Version: 2.56.0 Maintainer: Michael Lawrence MaintainerEmail: michafla at gene.com