Package: rnaseqcomp Version: 1.28.0 Command: /home/biocbuild/bbs-3.16-bioc/R/bin/R CMD check --install=check:rnaseqcomp.install-out.txt --library=/home/biocbuild/bbs-3.16-bioc/R/site-library --timings rnaseqcomp_1.28.0.tar.gz StartedAt: 2023-04-10 23:31:20 -0400 (Mon, 10 Apr 2023) EndedAt: 2023-04-10 23:32:03 -0400 (Mon, 10 Apr 2023) EllapsedTime: 42.7 seconds RetCode: 0 Status: OK CheckDir: rnaseqcomp.Rcheck Warnings: 0