Package: rhdf5client Version: 1.20.0 Command: /home/biocbuild/bbs-3.16-bioc/R/bin/R CMD build --keep-empty-dirs --no-resave-data rhdf5client StartedAt: 2023-04-10 17:58:02 -0400 (Mon, 10 Apr 2023) EndedAt: 2023-04-10 17:58:43 -0400 (Mon, 10 Apr 2023) EllapsedTime: 41.0 seconds RetCode: 0 Status: OK PackageFile: rhdf5client_1.20.0.tar.gz PackageFileSize: 533.2 KiB