Package: rbsurv Version: 2.56.0 Command: /home/biocbuild/bbs-3.16-bioc/R/bin/R CMD INSTALL rbsurv StartedAt: 2023-04-10 15:10:04 -0400 (Mon, 10 Apr 2023) EndedAt: 2023-04-10 15:10:12 -0400 (Mon, 10 Apr 2023) EllapsedTime: 7.9 seconds RetCode: 0 Status: OK