Package: rTRM Version: 1.36.0 Command: /home/biocbuild/bbs-3.16-bioc/R/bin/R CMD INSTALL rTRM StartedAt: 2023-04-10 15:24:47 -0400 (Mon, 10 Apr 2023) EndedAt: 2023-04-10 15:25:07 -0400 (Mon, 10 Apr 2023) EllapsedTime: 19.9 seconds RetCode: 0 Status: OK