Package: qpgraph Version: 2.32.2 Command: /Library/Frameworks/R.framework/Resources/bin/R CMD INSTALL qpgraph StartedAt: 2023-04-10 15:28:46 -0400 (Mon, 10 Apr 2023) EndedAt: 2023-04-10 15:29:52 -0400 (Mon, 10 Apr 2023) EllapsedTime: 65.4 seconds RetCode: 0 Status: OK