Package: qpgraph Version: 2.32.2 Command: /Library/Frameworks/R.framework/Resources/bin/R CMD build --keep-empty-dirs --no-resave-data qpgraph StartedAt: 2023-04-10 17:36:52 -0400 (Mon, 10 Apr 2023) EndedAt: 2023-04-10 17:38:53 -0400 (Mon, 10 Apr 2023) EllapsedTime: 121.3 seconds RetCode: 0 Status: OK PackageFile: qpgraph_2.32.2.tar.gz PackageFileSize: 2.7 MiB