Package: qpgraph Version: 2.32.2 Command: rm -rf qpgraph.buildbin-libdir && mkdir qpgraph.buildbin-libdir && /Users/biocbuild/BBS/utils/build-universal.sh qpgraph_2.32.2.tar.gz /Library/Frameworks/R.framework/Resources/bin/R qpgraph.buildbin-libdir StartedAt: 2023-04-10 23:58:27 -0400 (Mon, 10 Apr 2023) EndedAt: 2023-04-10 23:59:38 -0400 (Mon, 10 Apr 2023) EllapsedTime: 70.5 seconds RetCode: 0 Status: OK PackageFile: qpgraph_2.32.2.tgz PackageFileSize: 4.103 MiB