Package: pvca Version: 1.38.0 Command: /home/biocbuild/bbs-3.16-bioc/R/bin/R CMD build --keep-empty-dirs --no-resave-data pvca StartedAt: 2023-04-10 17:48:18 -0400 (Mon, 10 Apr 2023) EndedAt: 2023-04-10 17:48:52 -0400 (Mon, 10 Apr 2023) EllapsedTime: 34.4 seconds RetCode: 0 Status: OK PackageFile: pvca_1.38.0.tar.gz PackageFileSize: 107.6 KiB