Package: proBAMr Version: 1.32.0 Command: /home/biocbuild/bbs-3.16-bioc/R/bin/R CMD check --install=check:proBAMr.install-out.txt --library=/home/biocbuild/bbs-3.16-bioc/R/site-library --timings proBAMr_1.32.0.tar.gz StartedAt: 2023-04-10 23:03:21 -0400 (Mon, 10 Apr 2023) EndedAt: 2023-04-10 23:09:53 -0400 (Mon, 10 Apr 2023) EllapsedTime: 392.5 seconds RetCode: 0 Status: OK CheckDir: proBAMr.Rcheck Warnings: 0