Package: preciseTAD Version: 1.8.0 Command: rm -rf preciseTAD.buildbin-libdir && mkdir preciseTAD.buildbin-libdir && /Users/biocbuild/BBS/utils/build-universal.sh preciseTAD_1.8.0.tar.gz /Library/Frameworks/R.framework/Resources/bin/R preciseTAD.buildbin-libdir StartedAt: 2023-04-10 23:57:32 -0400 (Mon, 10 Apr 2023) EndedAt: 2023-04-10 23:58:30 -0400 (Mon, 10 Apr 2023) EllapsedTime: 58.9 seconds RetCode: 0 Status: OK PackageFile: preciseTAD_1.8.0.tgz PackageFileSize: 4.802 MiB