Package: pcaMethods Version: 1.90.0 Command: chmod a+r pcaMethods -R && F:\biocbuild\bbs-3.16-bioc\R\bin\R.exe CMD build --keep-empty-dirs --no-resave-data pcaMethods StartedAt: 2023-04-10 20:31:52 -0400 (Mon, 10 Apr 2023) EndedAt: 2023-04-10 20:33:58 -0400 (Mon, 10 Apr 2023) EllapsedTime: 126.6 seconds RetCode: 0 Status: OK PackageFile: pcaMethods_1.90.0.tar.gz PackageFileSize: 603 KiB