Package: pRolocGUI Version: 2.8.0 Command: /home/biocbuild/bbs-3.16-bioc/R/bin/R CMD INSTALL pRolocGUI StartedAt: 2023-04-10 16:00:20 -0400 (Mon, 10 Apr 2023) EndedAt: 2023-04-10 16:00:52 -0400 (Mon, 10 Apr 2023) EllapsedTime: 32.6 seconds RetCode: 0 Status: OK