Package: omicade4 Version: 1.38.0 Command: rm -rf omicade4.buildbin-libdir && mkdir omicade4.buildbin-libdir && /Users/biocbuild/BBS/utils/build-universal.sh omicade4_1.38.0.tar.gz /Library/Frameworks/R.framework/Resources/bin/R omicade4.buildbin-libdir StartedAt: 2023-04-10 23:55:20 -0400 (Mon, 10 Apr 2023) EndedAt: 2023-04-10 23:55:47 -0400 (Mon, 10 Apr 2023) EllapsedTime: 26.3 seconds RetCode: 0 Status: OK PackageFile: omicade4_1.38.0.tgz PackageFileSize: 611.1 KiB