Package: oligoClasses Version: 1.60.0 Command: rm -rf oligoClasses.buildbin-libdir && mkdir oligoClasses.buildbin-libdir && /Users/biocbuild/BBS/utils/build-universal.sh oligoClasses_1.60.0.tar.gz /Library/Frameworks/R.framework/Resources/bin/R oligoClasses.buildbin-libdir StartedAt: 2023-04-10 23:55:19 -0400 (Mon, 10 Apr 2023) EndedAt: 2023-04-10 23:56:05 -0400 (Mon, 10 Apr 2023) EllapsedTime: 45.8 seconds RetCode: 0 Status: OK PackageFile: oligoClasses_1.60.0.tgz PackageFileSize: 1.404 MiB