Package: nuCpos Version: 1.16.3 Command: /home/biocbuild/bbs-3.16-bioc/R/bin/R CMD check --install=check:nuCpos.install-out.txt --library=/home/biocbuild/bbs-3.16-bioc/R/site-library --timings nuCpos_1.16.3.tar.gz StartedAt: 2023-04-10 22:24:43 -0400 (Mon, 10 Apr 2023) EndedAt: 2023-04-10 22:25:13 -0400 (Mon, 10 Apr 2023) EllapsedTime: 29.7 seconds RetCode: 0 Status: OK CheckDir: nuCpos.Rcheck Warnings: 0