Package: normalize450K Version: 1.25.0 Command: /Library/Frameworks/R.framework/Resources/bin/R CMD build --keep-empty-dirs --no-resave-data normalize450K StartedAt: 2022-07-07 01:14:41 -0400 (Thu, 07 Jul 2022) EndedAt: 2022-07-07 01:15:11 -0400 (Thu, 07 Jul 2022) EllapsedTime: 30.0 seconds RetCode: 0 Status: OK PackageFile: normalize450K_1.25.0.tar.gz PackageFileSize: 3.137 MiB