Package: normalize450K Version: 1.25.0 Command: rm -rf normalize450K.buildbin-libdir && mkdir normalize450K.buildbin-libdir && /Users/biocbuild/BBS/utils/build-universal.sh normalize450K_1.25.0.tar.gz /Library/Frameworks/R.framework/Resources/bin/R normalize450K.buildbin-libdir StartedAt: 2022-07-07 08:36:44 -0400 (Thu, 07 Jul 2022) EndedAt: 2022-07-07 08:37:29 -0400 (Thu, 07 Jul 2022) EllapsedTime: 44.8 seconds RetCode: 0 Status: OK PackageFile: normalize450K_1.25.0.tgz PackageFileSize: 3.136 MiB