Package: netDx Version: 1.10.0 Command: /Library/Frameworks/R.framework/Resources/bin/R CMD build --keep-empty-dirs --no-resave-data netDx StartedAt: 2023-04-10 17:18:32 -0400 (Mon, 10 Apr 2023) EndedAt: 2023-04-10 17:19:48 -0400 (Mon, 10 Apr 2023) EllapsedTime: 76.8 seconds RetCode: 1 Status: ERROR PackageFile: None PackageFileSize: NA