Package: ncRNAtools Version: 1.8.0 Command: rm -rf ncRNAtools.buildbin-libdir && mkdir ncRNAtools.buildbin-libdir && /Users/biocbuild/BBS/utils/build-universal.sh ncRNAtools_1.8.0.tar.gz /Library/Frameworks/R.framework/Resources/bin/R ncRNAtools.buildbin-libdir StartedAt: 2023-04-10 23:54:28 -0400 (Mon, 10 Apr 2023) EndedAt: 2023-04-10 23:54:44 -0400 (Mon, 10 Apr 2023) EllapsedTime: 15.9 seconds RetCode: 0 Status: OK PackageFile: ncRNAtools_1.8.0.tgz PackageFileSize: 380.1 KiB