Package: ncRNAtools Version: 1.7.0 Command: rm -rf ncRNAtools.buildbin-libdir && mkdir ncRNAtools.buildbin-libdir && /Users/biocbuild/BBS/utils/build-universal.sh ncRNAtools_1.7.0.tar.gz /Library/Frameworks/R.framework/Resources/bin/R ncRNAtools.buildbin-libdir StartedAt: 2022-07-07 08:35:26 -0400 (Thu, 07 Jul 2022) EndedAt: 2022-07-07 08:35:53 -0400 (Thu, 07 Jul 2022) EllapsedTime: 27.5 seconds RetCode: 0 Status: OK PackageFile: ncRNAtools_1.7.0.tgz PackageFileSize: 380.1 KiB