Package: multiOmicsViz Version: 1.21.0 Command: /Library/Frameworks/R.framework/Resources/bin/R CMD INSTALL multiOmicsViz StartedAt: 2022-07-10 16:11:02 -0400 (Sun, 10 Jul 2022) EndedAt: 2022-07-10 16:11:53 -0400 (Sun, 10 Jul 2022) EllapsedTime: 50.6 seconds RetCode: 0 Status: OK