Package: multiOmicsViz Version: 1.21.0 Command: /Library/Frameworks/R.framework/Resources/bin/R CMD build --keep-empty-dirs --no-resave-data multiOmicsViz StartedAt: 2022-07-07 00:49:32 -0400 (Thu, 07 Jul 2022) EndedAt: 2022-07-07 00:50:26 -0400 (Thu, 07 Jul 2022) EllapsedTime: 54.1 seconds RetCode: 0 Status: OK PackageFile: multiOmicsViz_1.21.0.tar.gz PackageFileSize: 2.954 MiB