Package: motifStack Version: 1.42.0 Command: /home/biocbuild/bbs-3.16-bioc/R/bin/R CMD INSTALL motifStack StartedAt: 2023-04-10 15:43:32 -0400 (Mon, 10 Apr 2023) EndedAt: 2023-04-10 15:44:33 -0400 (Mon, 10 Apr 2023) EllapsedTime: 61.7 seconds RetCode: 0 Status: OK