Package: methylscaper Version: 1.6.0 Command: /home/biocbuild/bbs-3.16-bioc/R/bin/R CMD INSTALL methylscaper StartedAt: 2023-04-10 15:18:33 -0400 (Mon, 10 Apr 2023) EndedAt: 2023-04-10 15:19:01 -0400 (Mon, 10 Apr 2023) EllapsedTime: 28.1 seconds RetCode: 0 Status: OK