Package: methylMnM Version: 1.36.0 Command: /home/biocbuild/bbs-3.16-bioc/R/bin/R CMD build --keep-empty-dirs --no-resave-data methylMnM StartedAt: 2023-04-10 17:13:29 -0400 (Mon, 10 Apr 2023) EndedAt: 2023-04-10 17:14:27 -0400 (Mon, 10 Apr 2023) EllapsedTime: 58.3 seconds RetCode: 0 Status: OK PackageFile: methylMnM_1.36.0.tar.gz PackageFileSize: 8.406 MiB