Package: lmdme Version: 1.39.0 Command: /Library/Frameworks/R.framework/Resources/bin/R CMD build --keep-empty-dirs --no-resave-data lmdme StartedAt: 2022-07-06 23:25:58 -0400 (Wed, 06 Jul 2022) EndedAt: 2022-07-06 23:26:13 -0400 (Wed, 06 Jul 2022) EllapsedTime: 15.3 seconds RetCode: 0 Status: OK PackageFile: lmdme_1.39.0.tar.gz PackageFileSize: 608.3 KiB