Package: kebabs Version: 1.31.0 Command: rm -rf kebabs.buildbin-libdir && mkdir kebabs.buildbin-libdir && /Users/biocbuild/BBS/utils/build-universal.sh kebabs_1.31.0.tar.gz /Library/Frameworks/R.framework/Resources/bin/R kebabs.buildbin-libdir StartedAt: 2022-07-07 08:16:23 -0400 (Thu, 07 Jul 2022) EndedAt: 2022-07-07 08:19:31 -0400 (Thu, 07 Jul 2022) EllapsedTime: 188.8 seconds RetCode: 1 Status: ERROR PackageFile: None PackageFileSize: NA