Package: katdetectr Version: 1.0.0 Command: /home/biocbuild/bbs-3.16-bioc/R/bin/R CMD check --install=check:katdetectr.install-out.txt --library=/home/biocbuild/bbs-3.16-bioc/R/site-library --timings katdetectr_1.0.0.tar.gz StartedAt: 2023-04-10 21:32:22 -0400 (Mon, 10 Apr 2023) EndedAt: 2023-04-10 21:38:17 -0400 (Mon, 10 Apr 2023) EllapsedTime: 355.0 seconds RetCode: 0 Status: OK CheckDir: katdetectr.Rcheck Warnings: 0