Package: katdetectr Version: 1.0.0 Command: rm -rf katdetectr.buildbin-libdir && mkdir katdetectr.buildbin-libdir && /Users/biocbuild/BBS/utils/build-universal.sh katdetectr_1.0.0.tar.gz /Library/Frameworks/R.framework/Resources/bin/R katdetectr.buildbin-libdir StartedAt: 2023-04-10 23:49:10 -0400 (Mon, 10 Apr 2023) EndedAt: 2023-04-10 23:50:01 -0400 (Mon, 10 Apr 2023) EllapsedTime: 51.3 seconds RetCode: 0 Status: OK PackageFile: katdetectr_1.0.0.tgz PackageFileSize: 1.555 MiB