Package: iterativeBMA Version: 1.56.0 Command: chmod a+r iterativeBMA -R && F:\biocbuild\bbs-3.16-bioc\R\bin\R.exe CMD build --keep-empty-dirs --no-resave-data iterativeBMA StartedAt: 2023-04-10 19:26:03 -0400 (Mon, 10 Apr 2023) EndedAt: 2023-04-10 19:26:27 -0400 (Mon, 10 Apr 2023) EllapsedTime: 24.2 seconds RetCode: 0 Status: OK PackageFile: iterativeBMA_1.56.0.tar.gz PackageFileSize: 159.9 KiB