Package: iterativeBMA Version: 1.55.0 Command: /Library/Frameworks/R.framework/Resources/bin/R CMD build --keep-empty-dirs --no-resave-data iterativeBMA StartedAt: 2022-07-06 23:08:54 -0400 (Wed, 06 Jul 2022) EndedAt: 2022-07-06 23:09:14 -0400 (Wed, 06 Jul 2022) EllapsedTime: 19.4 seconds RetCode: 0 Status: OK PackageFile: iterativeBMA_1.55.0.tar.gz PackageFileSize: 159.1 KiB