Package: imageHTS Version: 1.48.0 Command: /home/biocbuild/bbs-3.16-bioc/R/bin/R CMD build --keep-empty-dirs --no-resave-data imageHTS StartedAt: 2023-04-10 17:01:47 -0400 (Mon, 10 Apr 2023) EndedAt: 2023-04-10 17:02:50 -0400 (Mon, 10 Apr 2023) EllapsedTime: 63.0 seconds RetCode: 0 Status: OK PackageFile: imageHTS_1.48.0.tar.gz PackageFileSize: 2.459 MiB