Package: iClusterPlus Version: 1.34.3 Command: chmod a+r iClusterPlus -R && F:\biocbuild\bbs-3.16-bioc\R\bin\R.exe CMD build --keep-empty-dirs --no-resave-data iClusterPlus StartedAt: 2023-04-10 19:17:40 -0400 (Mon, 10 Apr 2023) EndedAt: 2023-04-10 19:18:06 -0400 (Mon, 10 Apr 2023) EllapsedTime: 26.6 seconds RetCode: 0 Status: OK PackageFile: iClusterPlus_1.34.3.tar.gz PackageFileSize: 20.25 MiB