Package: gtrellis Version: 1.30.0 Command: /home/biocbuild/bbs-3.16-bioc/R/bin/R CMD build --keep-empty-dirs --no-resave-data gtrellis StartedAt: 2023-04-10 16:57:09 -0400 (Mon, 10 Apr 2023) EndedAt: 2023-04-10 16:59:37 -0400 (Mon, 10 Apr 2023) EllapsedTime: 147.7 seconds RetCode: 0 Status: OK PackageFile: gtrellis_1.30.0.tar.gz PackageFileSize: 2.041 MiB