Package: ggtree Version: 3.6.2 Command: /home/biocbuild/bbs-3.16-bioc/R/bin/R CMD check --install=check:ggtree.install-out.txt --library=/home/biocbuild/bbs-3.16-bioc/R/site-library --timings ggtree_3.6.2.tar.gz StartedAt: 2023-04-10 21:01:20 -0400 (Mon, 10 Apr 2023) EndedAt: 2023-04-10 21:02:23 -0400 (Mon, 10 Apr 2023) EllapsedTime: 63.0 seconds RetCode: 0 Status: OK CheckDir: ggtree.Rcheck Warnings: 0