Package: geneplotter Version: 1.76.0 Command: /home/biocbuild/bbs-3.16-bioc/R/bin/R CMD build --keep-empty-dirs --no-resave-data geneplotter StartedAt: 2023-04-10 16:49:54 -0400 (Mon, 10 Apr 2023) EndedAt: 2023-04-10 16:50:16 -0400 (Mon, 10 Apr 2023) EllapsedTime: 21.9 seconds RetCode: 0 Status: OK PackageFile: geneplotter_1.76.0.tar.gz PackageFileSize: 1.331 MiB