Package: gaga Version: 2.44.0 Command: /home/biocbuild/bbs-3.16-bioc/R/bin/R CMD build --keep-empty-dirs --no-resave-data gaga StartedAt: 2023-04-10 16:47:53 -0400 (Mon, 10 Apr 2023) EndedAt: 2023-04-10 16:48:13 -0400 (Mon, 10 Apr 2023) EllapsedTime: 19.6 seconds RetCode: 0 Status: OK PackageFile: gaga_2.44.0.tar.gz PackageFileSize: 425.5 KiB