Package: flowStats Version: 4.10.0 Command: /Library/Frameworks/R.framework/Resources/bin/R CMD INSTALL flowStats StartedAt: 2023-04-10 15:42:23 -0400 (Mon, 10 Apr 2023) EndedAt: 2023-04-10 15:42:54 -0400 (Mon, 10 Apr 2023) EllapsedTime: 30.9 seconds RetCode: 0 Status: OK